BEGIN:VCALENDAR
VERSION:2.0
PRODID:-//San Diego Early Music Society - ECPv6.15.11//NONSGML v1.0//EN
CALSCALE:GREGORIAN
METHOD:PUBLISH
X-WR-CALNAME:San Diego Early Music Society
X-ORIGINAL-URL:https://sdems.org
X-WR-CALDESC:Events for San Diego Early Music Society
REFRESH-INTERVAL;VALUE=DURATION:PT1H
X-Robots-Tag:noindex
X-PUBLISHED-TTL:PT1H
BEGIN:VTIMEZONE
TZID:America/Los_Angeles
BEGIN:DAYLIGHT
TZOFFSETFROM:-0800
TZOFFSETTO:-0700
TZNAME:PDT
DTSTART:20250309T100000
END:DAYLIGHT
BEGIN:STANDARD
TZOFFSETFROM:-0700
TZOFFSETTO:-0800
TZNAME:PST
DTSTART:20251102T090000
END:STANDARD
BEGIN:DAYLIGHT
TZOFFSETFROM:-0800
TZOFFSETTO:-0700
TZNAME:PDT
DTSTART:20260308T100000
END:DAYLIGHT
BEGIN:STANDARD
TZOFFSETFROM:-0700
TZOFFSETTO:-0800
TZNAME:PST
DTSTART:20261101T090000
END:STANDARD
BEGIN:DAYLIGHT
TZOFFSETFROM:-0800
TZOFFSETTO:-0700
TZNAME:PDT
DTSTART:20270314T100000
END:DAYLIGHT
BEGIN:STANDARD
TZOFFSETFROM:-0700
TZOFFSETTO:-0800
TZNAME:PST
DTSTART:20271107T090000
END:STANDARD
END:VTIMEZONE
BEGIN:VTIMEZONE
TZID:UTC
BEGIN:STANDARD
TZOFFSETFROM:+0000
TZOFFSETTO:+0000
TZNAME:UTC
DTSTART:20250101T000000
END:STANDARD
END:VTIMEZONE
BEGIN:VEVENT
DTSTART;TZID=America/Los_Angeles:20260118T193000
DTEND;TZID=America/Los_Angeles:20260118T193000
DTSTAMP:20260420T023211
CREATED:20250630T044334Z
LAST-MODIFIED:20251013T201654Z
UID:1178-1768764600-1768764600@sdems.org
SUMMARY:Corina Marti & Michal Gondko
DESCRIPTION:Fantasiae\, Cantiones et Choreae: Music of Sixteenth-Century Poland \n\n\n\n\n\nBuy Tickets\n\n\n\n\n\n(c) Dirk Letsch\n\n\n\nAfter their superb San Diego debut with La Morra\, we are delighted to welcome back harpsichordist Corina Marti and lutenist Michal Gondko in an intriguing recital of rare sixteenth-century Polish music. A perfect start to our Solo Series this season.
URL:https://sdems.org/concert/corina-marti-michal-gondko/
LOCATION:St. Paul’s Episcopal Cathedral\, 2728 Sixth Ave\, San Diego\, CA\, 92103\, United States
CATEGORIES:Solo Series
ATTACH;FMTTYPE=image/jpeg:https://sdems.org/wp-content/uploads/2025/06/CM-by-Dirk-Letsch-1.jpg
END:VEVENT
BEGIN:VEVENT
DTSTART;TZID=UTC:20260203T193000
DTEND;TZID=UTC:20260203T193000
DTSTAMP:20260420T023211
CREATED:20220620T212846Z
LAST-MODIFIED:20260130T175148Z
UID:47-1770147000-1770147000@sdems.org
SUMMARY:The Gesualdo Six
DESCRIPTION:Owain Park\, direction \n\n\n\nQueen of Hearts\n\n\n\n\n\nBuy Tickets\n\n\n\n\n\n\n\n\n\nThis ensemble made a brilliant debut in our series five years ago\, and we could not wait any longer to welcome them back. The Gesualdo Six will present a selection of Renaissance motets and chansons from the French court\, by composers such as Josquin des Prez\, Antoine Brumel\, Johannes Ockeghem\, and Jean L’Héritier\, focusing on European queens including Anne of Brittany\, Margaret of Austria\, Anne Boleyn\, and Mary Tudor.
URL:https://sdems.org/concert/gesualdosix/
LOCATION:St. James by-the-Sea\, 743 Prospect St\, La Jolla\, CA\, 92037\, United States
CATEGORIES:Main Series
ATTACH;FMTTYPE=image/jpeg:https://sdems.org/wp-content/uploads/2022/06/GESUALDOSIX_3_cAndrew-Wilkinson.jpg
ORGANIZER;CN="San Diego Early Music Society":MAILTO:sdems@sdems.org
END:VEVENT
BEGIN:VEVENT
DTSTART;TZID=America/Los_Angeles:20260211T190000
DTEND;TZID=America/Los_Angeles:20260211T203000
DTSTAMP:20260420T023211
CREATED:20251203T131430Z
LAST-MODIFIED:20260208T200452Z
UID:1717-1770836400-1770841800@sdems.org
SUMMARY:ModernMedieval Voices Concert: "The Living Word"
DESCRIPTION:This event is part of a two-day residency that includes a performance by the ensemble on Wednesday\, February 11\, and a workshop led by the artists on Thursday\, February 12. Both events are FREE. \n\n\n\n\n\nPERFORMANCE: Wednesday\, February 11\, 7:00 pm\, All Souls’ Episcopal Church (Point Loma) \n\n\n\nThe SDEMS is proud to host ModernMedieval Voices for a two-day residency in San Diego.  \n\n\n\nModernMedieval Voices is an all-female ensemble created by Dr. Jacqueline Horner-Kwiatek to present programs that combine medieval chant and polyphony with new commissions and music from later eras. She is joined by singers drawn from some of the country’s leading early and new music ensembles\, including Roomful of Teeth\, Pomerium\, and Trinity Wall Street Choir. \n\n\n\nThis a cappella program features some of Hildegard of Bingen’s most ecstatic chants\, including O Jerusalem and O Viridissima Virga\, reflecting her most important sources of inspiration: Mother Church\, Saints\, The Virgin Mary\, and The Divine Feminine\, as represented by Love and Wisdom. These chants are interwoven with new works by acclaimed composers Caroline Shaw\, the youngest-ever winner of the Pulitzer Prize for Music\, Caleb Burhans\, “New York’s mohawked Mozart” (Time Out New York)\, Pamela Madsen\, Daniel Thomas Davis\, and Jacqueline Horner-Kwiatek. The new works are based on\, or influenced by\, Hildegard’s philosophic writings\, her music\, and her visions\, and each composer presents their own unique and personal interpretation. The resulting program is an exciting tour de force for both singers and audience. \n\n\n\n“For those who miss the commitment and quality of Anonymous 4 in the realms of medieval and contemporary music\, rest assured that ModernMedieval Voices have taken up the tapestry without dropping a stitch. The tradition continues\, to borrow Hildegard’s words\, per exempla puri soni—through examples of pure sound” (Anne E. Johnson\, ClassicalVoiceAmerica.org) \n\n\n\nThis event is free and open to all thanks to the support of the City of San Diego.
URL:https://sdems.org/concert/modernmedieval-voices-workshop-concert/
LOCATION:All Souls’ Episcopal Church\, 1475 Catalina Blvd\, San Diego\, CA\, 92107\, United States
CATEGORIES:Outreach
ATTACH;FMTTYPE=image/avif:https://sdems.org/wp-content/uploads/2025/06/ModernMidevalTrioExtended.avif
END:VEVENT
BEGIN:VEVENT
DTSTART;TZID=America/Los_Angeles:20260212T170000
DTEND;TZID=America/Los_Angeles:20260212T190000
DTSTAMP:20260420T023211
CREATED:20250630T062948Z
LAST-MODIFIED:20260204T185621Z
UID:1245-1770915600-1770922800@sdems.org
SUMMARY:ModernMedieval voices Workshop: "Singing Hildegard: From the Page to the Stage"
DESCRIPTION:This event is part of a two-day residency that includes a performance by the ensemble on Wednesday\, February 11\, and a workshop led by the artists on Thursday\, February 12. Both events are FREE. \n\n\n\nREGISTER TO PARTICIPATE\n\n\n\n\n\n\n\n\n\nWORKSHOP: Thursday\, February 12\, 5:00 pm\, St. David’s Episcopal Church (Clairemont) \n\n\n\nThe SDEMS is proud to host ModernMedieval Voices for a two-day residency in San Diego!  \n\n\n\nModernMedieval Voices is an all-female ensemble created by Dr. Jacqueline Horner-Kwiatek to present programs that combine medieval chant and polyphony with new commissions and music from later eras. She is joined by singers drawn from some of the country’s leading early and new music ensembles\, including Roomful of Teeth\, Pomerium\, and Trinity Wall Street Choir. \n\n\n\nModernMedieval Voices presents a lecture/workshop that\, via Hildegard\, focuses on the challenges of finding and performing medieval music. We will look at the manuscripts\, examine Hildegard’s compositional style\, and discuss differing ways of interpreting the notation\, comparing different transcriptions of several of her chants\, including Caritas Habundat and O Viridissima Virga. The presentation also deals with the challenges of programing Hildegard in a modern concert setting. \n\n\n\nWe will informally sing through some passages from the chants under discussion to show the different approaches and results thereof. This will include addressing the skills necessary for good ensemble singing. \n\n\n\nThis workshop is open to singers and non-singers alike. The San Diego Early Music Society will provide all materials. REGISTRATION REQUIRED.  \n\n\n\nThis event is free and open to all thanks to the support of the City of San Diego. \n\n\n\nREGISTER TO PARTICIPATE
URL:https://sdems.org/concert/modern-medieval-workshop-concert/
LOCATION:St. David’s Episcopal Church\, 5050 Milton St\, San Diego\, California\, 92110\, United States
CATEGORIES:Outreach
ATTACH;FMTTYPE=image/avif:https://sdems.org/wp-content/uploads/2025/06/ModernMidevalTrioExtended.avif
END:VEVENT
BEGIN:VEVENT
DTSTART;TZID=America/Los_Angeles:20260217T193000
DTEND;TZID=America/Los_Angeles:20260217T193000
DTSTAMP:20260420T023211
CREATED:20250630T050028Z
LAST-MODIFIED:20260127T032030Z
UID:1186-1771356600-1771356600@sdems.org
SUMMARY:Jory Vinikour
DESCRIPTION:Scarlatti Sonatas\n\n\n\n\n\nBuy Tickets\n\n\n\n\n\nRenowned harpsichordist Jory Vinikour returns to San Diego\, this time in a solo recital showcasing several Scarlatti sonatas. Now in its third year\, our Solo Series expands to All Souls’ Episcopal Church\, whose exceptional acoustics will perfectly complement Vinikour’s “dazzling playing” (Washington Classical Review).
URL:https://sdems.org/concert/jory-vinikour/
LOCATION:All Souls’ Episcopal Church\, 1475 Catalina Blvd\, San Diego\, CA\, 92107\, United States
CATEGORIES:Solo Series
ATTACH;FMTTYPE=image/jpeg:https://sdems.org/wp-content/uploads/2025/06/Jory-Vinikour_Portrait_Nuccio-di-Nuzzo.jpg
END:VEVENT
BEGIN:VEVENT
DTSTART;TZID=America/Los_Angeles:20260224T193000
DTEND;TZID=America/Los_Angeles:20260224T213000
DTSTAMP:20260420T023211
CREATED:20260119T205814Z
LAST-MODIFIED:20260124T214104Z
UID:1750-1771961400-1771968600@sdems.org
SUMMARY:Lecture: The Elements of a Bach Passion
DESCRIPTION:This FREE event is part of an exciting collaboration between SDEMS and the La Jolla Symphony & Chorus\, featuring two SDEMS-sponsored public lectures that complement LJS&C’s upcoming performances of J. S. Bach’s St. John Passion. \n\n\n\n\n\n\n\nDr. Daniel R. Melamed | The Elements of a Bach Passion\n\n\n\nIntroduction by Dr. Ruben Valenzuela\, founder and artistic director\, Bach Collegium San Diego. \n\n\n\nWhat was a passion setting in J. S. Bach’s time? What was its purpose? When and where was it heard? What textual and musical materials was it made from? How were its words and music meant to be understood in Bach’s day? If we are going to understand what Bach’s St. John Passion might mean today\, we need to start with these questions about the piece as its librettist and composer regarded it in 1724. \n\n\n\n\n\n\n\n\n\n\n\nDaniel R. Melamed is professor emeritus of musicology at the Indiana University Jacobs School of Music. He is director of the Bloomington Bach Cantata Project and co-author\, with Michael Marissen\, of BachCantataTexts.org\, a freely available source for historically informed translations of the texts of J. S. Bach’s vocal music. His book Hearing Bach’s Passions\, for general readers\, is available from Oxford University Press. He also serves as president of the Mozart Society of America. \n\n\n\n\n\n\n\nWHEN: Tuesday\, February 24\, 7:30 p.m. \n\n\n\n\n\nWHERE: Conrad Prebys Music Center\, UCSD\, Room 127.  Paid parking in the Gilman parking structure on 3100 Gilman Dr.
URL:https://sdems.org/concert/bach-lecture-melamed/
LOCATION:Conrad Prebys Music Center\, 9410 Russell Lane\, La Jolla\, California\, 92093\, United States
CATEGORIES:Outreach
ATTACH;FMTTYPE=image/png:https://sdems.org/wp-content/uploads/2026/01/DRM-2021-01.png
ORGANIZER;CN="San Diego Early Music Society":MAILTO:sdems@sdems.org
END:VEVENT
BEGIN:VEVENT
DTSTART;TZID=America/Los_Angeles:20260301T193000
DTEND;TZID=America/Los_Angeles:20260301T193000
DTSTAMP:20260420T023211
CREATED:20250630T050954Z
LAST-MODIFIED:20260127T031440Z
UID:1191-1772393400-1772393400@sdems.org
SUMMARY:Hopkinson Smith - CANCELLED
DESCRIPTION:Seven Passionate Pavans: Music of John Dowland \n\n\n\n\n\nWe regret to share that the upcoming concert by Hopkinson Smith has been cancelled due to health-related reasons. We are grateful for his extraordinary artistry and extend our sincere wishes for his full recovery. Ticket holders will be contacted directly via email with information regarding available options. We appreciate your understanding and continued support. \n\n\n\n(c) Vico Chamla\n\n\n\nLute legend and “supreme poet of the lute” (Gramophone) Hopkinson Smith returns for his third appearance\, and we are deeply honored to present this recital. His unique program—a tribute to John Dowland on the 400th anniversary of his death—features solo lute elaborations of Dowland’s Seven Passionate Pavans.
URL:https://sdems.org/concert/hopkinson-smith/
LOCATION:St. Paul’s Episcopal Cathedral\, 2728 Sixth Ave\, San Diego\, CA\, 92103\, United States
CATEGORIES:Solo Series
ATTACH;FMTTYPE=image/jpeg:https://sdems.org/wp-content/uploads/2025/06/Foto-Vico-Chamla-alta-risoluzione-scaled.jpg
END:VEVENT
BEGIN:VEVENT
DTSTART;TZID=America/Los_Angeles:20260310T193000
DTEND;TZID=America/Los_Angeles:20260310T203000
DTSTAMP:20260420T023211
CREATED:20260119T203759Z
LAST-MODIFIED:20260301T014824Z
UID:1733-1773171000-1773174600@sdems.org
SUMMARY:Lecture: The Portrayal of Jews and Christians in Bach’s St. John Passion
DESCRIPTION:This FREE event is part of an exciting collaboration between SDEMS and the La Jolla Symphony & Chorus\, featuring two SDEMS-sponsored public lectures that complement LJS&C’s upcoming performances of J. S. Bach’s St. John Passion. \n\n\n\n\n\n\n\nDr. Michael Marissen | The Portrayal of Jews and Christians in Bach’s St. John Passion\n\n\n\nIntroduction by Dr. Ruben Valenzuela\, founder and artistic director\, Bach Collegium San Diego. \n\n\n\nIllustrating his talk with musical examples\, Dr. Marissen will speak on the ways Bach depicts Jews and Christians and on how Bach musically heightens not only various marvelous sentiments\, but also various troubling sentiments found in the New Testament and some key writings of Martin Luther. \n\n\n\n\n\n\n\n\n\n\n\nMichael Marissen is the Daniel Underhill Professor Emeritus of Music at Swarthmore College. He is co-author\, with Daniel R. Melamed\, of BachCantataTexts.org\, a freely available source for historically informed translations of the texts in J. S. Bach’s vocal music. He has written many essays on music and religion for general-audience venues\, including the Huffington Post and The New York Times. His most recent books are Bach & God and Bach against Modernity\, both available from Oxford University Press. He has also served on many panels with rabbis and ministers promoting dialogue among Jews and Christians. \n\n\n\n\n\nWHEN: Tuesday\, March 10\, 2026 at 7:30 p.m. \n\n\n\nWHERE: Lawrence Family Jewish Community Center\, Rehearsal Room. Free on-site parking.
URL:https://sdems.org/concert/bach-lecture-marissen/
LOCATION:Lawrence Family Jewish Community Center\, 4126 Executive Dr\, La Jolla\, California\, 92037\, United States
CATEGORIES:Outreach
ATTACH;FMTTYPE=image/jpeg:https://sdems.org/wp-content/uploads/2026/01/MARISSEN-headshot-HIGH-RES-copy.jpg
ORGANIZER;CN="San Diego Early Music Society":MAILTO:sdems@sdems.org
END:VEVENT
BEGIN:VEVENT
DTSTART;TZID=America/Los_Angeles:20260313T193000
DTEND;TZID=America/Los_Angeles:20260313T193000
DTSTAMP:20260420T023211
CREATED:20220620T212710Z
LAST-MODIFIED:20260127T031944Z
UID:45-1773430200-1773430200@sdems.org
SUMMARY:Concerto Koln
DESCRIPTION:Shunske Sato\, violin and direction \n\n\n\nMax Volbers\, recorder \n\n\n\nA Musical Geography: Telemann\, Bach\, Sammartini\, Handel and Vivaldi  \n\n\n\n\n\nBuy Tickets\n\n\n\n(c) Sonja Werner\n\n\n\n\n\n\n\n\n\nIn the long history of the San Diego Early Music Society\, Concerto Köln holds a very special place. Not only have they become dear friends\, but they are also a consistent audience favorite. For their sixth appearance in San Diego\, they will share the stage with star violinist Shunske Sato and virtuoso recorder player Max Volbers in another thrilling program of Baroque gems by Telemann\, Vivaldi\, Handel\, Sammartini\, and the reconstructed violin concerto BWV 1052R by J. S. Bach.
URL:https://sdems.org/concert/concertokoln/
LOCATION:St. James by-the-Sea\, 743 Prospect St\, La Jolla\, CA\, 92037\, United States
CATEGORIES:Main Series
ATTACH;FMTTYPE=image/jpeg:https://sdems.org/wp-content/uploads/2022/06/64ac70cded22d404c053e327_hero@Marco-Borggreve.jpg
ORGANIZER;CN="San Diego Early Music Society":MAILTO:sdems@sdems.org
END:VEVENT
BEGIN:VEVENT
DTSTART;TZID=America/Los_Angeles:20260410T190000
DTEND;TZID=America/Los_Angeles:20260410T210000
DTSTAMP:20260420T023211
CREATED:20250630T063619Z
LAST-MODIFIED:20260124T214206Z
UID:1248-1775847600-1775854800@sdems.org
SUMMARY:SD Early Music Sing-Along
DESCRIPTION:Register for the sing-along\n\n\n\n\n\n\n\n\n\n\n\nThe annual San Diego Early Music Sing-Along is back! Join us for a joyful evening of singing favorites from the early music vocal repertoire. Led by Dan Ratelle\, this event is open to singers of all levels.Music and refreshments will be provided. Registration required. \n\n\n\n\n\nREGISTER FOR THE SING-ALONG
URL:https://sdems.org/concert/sd-early-music-sing-along/
LOCATION:First United Methodist Church\, 2111 Camino del Rio S\, San Diego\, California\, 92108\, United States
CATEGORIES:Outreach
ATTACH;FMTTYPE=image/jpeg:https://sdems.org/wp-content/uploads/2025/06/DSC_1989-Color-II-scaled.jpg
ORGANIZER;CN="San Diego Early Music Society":MAILTO:sdems@sdems.org
END:VEVENT
BEGIN:VEVENT
DTSTART;TZID=UTC:20260414T193000
DTEND;TZID=UTC:20260414T193000
DTSTAMP:20260420T023211
CREATED:20220620T212323Z
LAST-MODIFIED:20260127T031901Z
UID:42-1776195000-1776195000@sdems.org
SUMMARY:Gli Incogniti
DESCRIPTION:Amandine Beyer\, violin and direction\n\n\n\nFalse Consonances of Melancholy: Music by Matteis and Purcell \n\n\n\n\n\nBuy Tickets\n\n\n\n\n\n\n\n\n\nImages (c) Óscar Vázquez\n\n\n\nIn a season full of audience favorites\, this is the debut we’ve long anticipated. Violinist extraordinaire Amandine Beyer and her ensemble Gli Incogniti—hailed across Europe and Asia—have been rarer guests in the United States. Their program explores the “bewitching and endlessly inventive” (Gramophone) music of Nicola Matteis\, as well as works by Henry Purcell. The performance promises to be “rich in spontaneity and a sense of exploration\, […] wonderfully addictive” (Gramophone). \n\n\n\n\n\n\n\n\n\n\n\n\n\n\n\n\n\n\n\n\n\n\n\n\n\n\n\n\n\nGli Incogniti is supported by the DRAC Nouvelle-Aquitaine\, the Nouvelle-Aquitaine Regional Council\, and the Department of Gironde. With support from the Centre national de la musique (CNM). \n\n\n\nGli Incogniti est soutenu par la DRAC Nouvelle-Aquitaine\, la Région Nouvelle-Aquitaine et le département de la Gironde. Avec le soutien du Centre national de la musique (CNM).
URL:https://sdems.org/concert/gliincogniti/
LOCATION:St. James by-the-Sea\, 743 Prospect St\, La Jolla\, CA\, 92037\, United States
CATEGORIES:Main Series
ATTACH;FMTTYPE=image/jpeg:https://sdems.org/wp-content/uploads/2022/06/2023-Biber-Anvers-©Tatiana-Couzis-scaled.jpg
END:VEVENT
BEGIN:VEVENT
DTSTART;TZID=America/Los_Angeles:20260424T193000
DTEND;TZID=America/Los_Angeles:20260424T193000
DTSTAMP:20260420T023211
CREATED:20250630T051535Z
LAST-MODIFIED:20260127T031815Z
UID:1195-1777059000-1777059000@sdems.org
SUMMARY:Benjamin Alard\, harpsichord
DESCRIPTION:Toccatas and Concertos I: Harpsichord music by J. S. Bach\n\n\n\n\n\nBuy Tickets\n\n\n\n(c) Bernard Martinez\n\n\n\nTo conclude our thrilling Solo Series\, celebrated harpsichordist and organist Benjamin Alard returns for an artist residency at All Souls\, featuring two recitals over two days. Highlights include the Italian Concerto on harpsichord on Friday evening and the iconic Toccata and Fugue in D minor on the organ on Sunday. Don’t miss these two evenings of “superbly and sympathetically played” (San Diego Union-Tribune) music.
URL:https://sdems.org/concert/benjamin-alard-harpsichord/
LOCATION:All Souls’ Episcopal Church\, 1475 Catalina Blvd\, San Diego\, CA\, 92107\, United States
CATEGORIES:Solo Series
ATTACH;FMTTYPE=image/jpeg:https://sdems.org/wp-content/uploads/2025/06/BenjaminAlard-5BernardMartinez-BD-1.jpg
END:VEVENT
BEGIN:VEVENT
DTSTART;TZID=America/Los_Angeles:20260426T193000
DTEND;TZID=America/Los_Angeles:20260426T193000
DTSTAMP:20260420T023211
CREATED:20250630T051746Z
LAST-MODIFIED:20260127T031731Z
UID:1198-1777231800-1777231800@sdems.org
SUMMARY:Benjamin Alard\, organ
DESCRIPTION:Toccatas and Concertos II: Organ music by J.S. Bach\n\n\n\n\n\nBuy Tickets\n\n\n\n\n\nTo conclude our thrilling Solo Series\, celebrated harpsichordist and organist Benjamin Alard returns for an artist residency at All Souls’\, featuring two recitals over two days. Highlights include the Italian Concerto on harpsichord on Friday evening and the iconic Toccata and Fugue in D minor on the organ on Sunday. Don’t miss these two evenings of “superbly and sympathetically played” (San Diego Union-Tribune) music.
URL:https://sdems.org/concert/benjamin-alard-organ/
LOCATION:All Souls’ Episcopal Church\, 1475 Catalina Blvd\, San Diego\, CA\, 92107\, United States
CATEGORIES:Solo Series
ATTACH;FMTTYPE=image/jpeg:https://sdems.org/wp-content/uploads/2025/06/BenjaminAlard-4BernardMartinez-BD-1.jpg
END:VEVENT
BEGIN:VEVENT
DTSTART;TZID=America/Los_Angeles:20260428T193000
DTEND;TZID=America/Los_Angeles:20260428T193000
DTSTAMP:20260420T023211
CREATED:20220620T212125Z
LAST-MODIFIED:20260415T162229Z
UID:40-1777404600-1777404600@sdems.org
SUMMARY:Philippe Jaroussky - POSTPONED
DESCRIPTION:We regret to announce that our April 28 season finale with Philippe Jaroussky and Artaserse has been postponed.  \n\n\n\n\n\nDespite extraordinary efforts by the group and by us and the other North American presenters\, we were not able to find a solution to Philippe’s visa issue. We are working with Philippe and his group to reschedule his appearance when a new US tour is confirmed. We will share details as soon as we have them. \n\n\n\n\n\nAll ticket holders will receive a separate email with instructions for requesting a credit or refund. For questions\, please contact Brad (Box Office) at sdems@sdems.org or Pamela Narbona Jerez (Executive director) at pamela@sdems.org Thank you for your understanding and continued support.
URL:https://sdems.org/concert/jaroussky-artaserse/
LOCATION:California
CATEGORIES:Main Series
ATTACH;FMTTYPE=image/jpeg:https://sdems.org/wp-content/uploads/2022/06/1R3A6619-PJ-RT-scaled.jpg
ORGANIZER;CN="San Diego Early Music Society":MAILTO:sdems@sdems.org
END:VEVENT
BEGIN:VEVENT
DTSTART;TZID=America/Los_Angeles:20260502T150000
DTEND;TZID=America/Los_Angeles:20260502T170000
DTSTAMP:20260420T023211
CREATED:20260301T012340Z
LAST-MODIFIED:20260301T012342Z
UID:1826-1777734000-1777741200@sdems.org
SUMMARY:Brad Rice\, lute
DESCRIPTION:Tablature: When\, Where\, and Why?\n\n\n\nAn introduction through a lecture and performance to the history of 16th century lute tablature\, spanning from 1507 in Italy to the last German tablatures printed in the 1590s. If you are a guitarist or have an interest in music history\, this is for you! \n\n\n\nThis event is FREE and open to all! \n\n\n\n\n\n\n\n\n\n\n\nBrad Rice is an alumnus of SDSU with a B.A. in Music Education. Throughout his time at Grossmont College and SDSU\, Brad studied classical guitar under Fred Benedetti\, Robert Wetzel\, and Sean Bassett before picking up the lute in the summer of 2021. Since then\, Brad has been awarded 2 scholarships from the Lute Society of America and has performed in masterclasses for Bor Zuljan\, Paul Odette\, Evangelina Mascardi\, and Nigel North. Currently\, he studies Renaissance lute under Jacob Heringman and Ariel Abramovich. Brad also serves as the San Diego chapter leader for the Lute Society of America and publishes in the LSA Quarterly. \n\n\n\n\n\nWHEN: Saturday\, May 2\, 2026 at 3:00 PM \n\n\n\nWHERE: Point Loma/Hervey Public Library. Free onsite parking.
URL:https://sdems.org/concert/brad-rice-lute/
LOCATION:Point Loma/Hervey Branch Library\, 3701 Voltaire St.\, San Diego\, California\, 92107\, United States
CATEGORIES:Outreach
ATTACH;FMTTYPE=image/png:https://sdems.org/wp-content/uploads/2026/02/Brad-Rice-2.png
ORGANIZER;CN="San Diego Early Music Society":MAILTO:sdems@sdems.org
END:VEVENT
BEGIN:VEVENT
DTSTART;TZID=America/Los_Angeles:20260520T190000
DTEND;TZID=America/Los_Angeles:20260520T210000
DTSTAMP:20260420T023211
CREATED:20250630T064525Z
LAST-MODIFIED:20260417T045831Z
UID:1254-1779303600-1779310800@sdems.org
SUMMARY:SD Early Music Showcase
DESCRIPTION:Join the San Diego Early Music Society for a fun evening of historically informed performances by San Diego’s very own early music performers! * Kensington Baroque Orchestra* Brad Rice\, lute* UCSD Bach EnsemblePlus vocal and instrumental ensembles. \n\n\n\nNEW THIS SEASON: We have a new home for this evening! We are delighted to welcome Mount Soledad Presbyterian Church in La Jolla as a new community partner! This family-friendly event is FREE and open to all.
URL:https://sdems.org/concert/sd-early-music-showcase/
LOCATION:Mount Soledad Presbyterian Church\, 6551 Soledad Mountain Rd.\, La Jolla\, California\, 92037\, United States
CATEGORIES:Outreach
ATTACH;FMTTYPE=image/jpeg:https://sdems.org/wp-content/uploads/2025/06/20230611_191626-scaled.jpg
END:VEVENT
BEGIN:VEVENT
DTSTART;TZID=America/Los_Angeles:20260606T150000
DTEND;TZID=America/Los_Angeles:20260606T170000
DTSTAMP:20260420T023211
CREATED:20260301T023231Z
LAST-MODIFIED:20260302T211453Z
UID:1831-1780758000-1780765200@sdems.org
SUMMARY:Coloring with Corelli
DESCRIPTION:We’re proud to present this FREE family-friendly event in collaboration with Baroque Music Festival\, Corona del Mar.  \n\n\n\n\n\n\n\n\n\n\n\n\n\n\n\nJOIN US for a FREE\, fun\, and relaxed afternoon for the whole family! The San Diego Early Music Society and our friends at Baroque Music Festival Corona del Mar (CdM) are excited to present a 50-minute concert for young people ages 0-18 and their accompanying parents or guardians at the Mission Valley Library. The afternoon will feature musical storytelling; themed coloring sheets for kids\, teens\, and adults to fill in while listening (crayons and pencils also provided); a baroque instrument petting zoo and snacks after the performance; and lots of Baroque-era music discovery! \n\n\n\n\n\nLed  by CdM Education Program Director Lindsey Strand-Polyak\, and featuring Lindsey Strand-Polyak and Courtney Kuroda on baroque violins; Erik Andersen on baroque cello\, Pardessus de viole\, and viola da gamba; and Jason Yoshida on theorbo and baroque guitar \n\n\n\n\n\n\n\nSDEMS is supported by the City of San Diego Cultural Affairs. CdM is supported by Burton Karson Music Education Fund and the Jane Deming Fund.
URL:https://sdems.org/concert/coloring-with-corelli/
LOCATION:Mission Valley Library\, 2123 Fenton Pkwy\, San Diego\, California\, 92108\, United States
CATEGORIES:Outreach
ATTACH;FMTTYPE=image/png:https://sdems.org/wp-content/uploads/2026/02/Coloring-with-Corelli.png
ORGANIZER;CN="San Diego Early Music Society":MAILTO:sdems@sdems.org
END:VEVENT
END:VCALENDAR